BEGIN:VCALENDAR
VERSION:2.0
PRODID:-//PitchForce | Ecosystem Venture Group\, Inc. (EcoVg)//Silkstart 
 Technology Inc.//
BEGIN:VTIMEZONE
TZID:US/Pacific
BEGIN:DAYLIGHT
DTSTART;VALUE=DATE-TIME:20260308T020000
TZNAME:PDT
TZOFFSETFROM:-0800
TZOFFSETTO:-0700
END:DAYLIGHT
BEGIN:STANDARD
DTSTART;VALUE=DATE-TIME:20261101T020000
TZNAME:PST
TZOFFSETFROM:-0700
TZOFFSETTO:-0800
END:STANDARD
END:VTIMEZONE
BEGIN:VEVENT
SUMMARY:Life Science Virtual PitchForce
DTSTART;TZID=US/Pacific;VALUE=DATE-TIME:20260827T150000
DTEND;TZID=US/Pacific;VALUE=DATE-TIME:20260827T170000
DTSTAMP;VALUE=DATE-TIME:20260316T225626
UID:69b88a9a1995c705e6086871
DESCRIPTION: Non-Subscriber? Submit your pitch below Life Science Virtual 
 PitchForce Thursday\, August 27 | 3 - 5pm PDT Non-Subscriber? Click Below 
 to Pitch APPLY TO PITCH About The Event To present at this PitchForce 
 secure your ticket now\, or to learn more about a future event please send
  your executive summary to: mshapiro@peopleconnectstaffing.com *PitchForce
  provides a forum for feedback. You are participating voluntarily. 
 PitchForce has no control over the feedback received by the panelists. The
  session will be recorded and public. By participating in this event\, we 
 will share your contact info with investors and add you to our mailing 
 list. 6 startups seeking their seed round will deliver a 4-minute pitch 
 with slide presentation followed by a Q&amp\;A session with the panel\, 
 followed by panel non-rebuttal feedback. The panelists will vote on a 
 scale of 1-5 (5 being highest) to rate the company. Date and time 
 Thursday\, August 27 | 3 - 5 PM PDT Location Online: This PitchForce will 
 take place virtually using Zoom Webinars. Once you register you will 
 receive the zoom link to access the meeting! Refund Policy Refunds up to 1
  days before event. Want To Pitch? Producing the event is Max Shapiro\, 
 CEO of PeopleConnect. Max has been hosting monthly pitch events for the 
 past 13 years. PeopleConnect is an established recruiting firm of 25+ 
 years specializing in startup companies\, early venture organizations\, 
 and businesses in expansion mode. PeopleConnect is the most unique 
 recruiting firm in the world\, focused on Startups and they can fill any 
 position at any level that you need! PitchForce Virtual Format PitchForce 
 is a weekly competition style event for early stage startups to deliver a 
 4-minute pitch with slide deck to a panel of seasoned investors. There 
 will be a Q&amp\;A session with the panel and direct feedback from the 
 panel before they vote on a scale of 1 to 5. The investors and the 
 startups will be connected to continue the conversation towards 
 investment. The winner and runner up of the Pitch will receive a 1st place
  certificate. This event is free to attend and watch! Once you register 
 please send your executive summary to mshapiro@peopleconnectstaffing.com 
 Would you like to connect? Please schedule a meeting here: 
 https://calendly.com/maxshapiro/15min 
LOCATION:
PRIORITY:5
URL:https://events.pitch-force.com:443/events/life-science-virtual-
 pitchforce-18
END:VEVENT
END:VCALENDAR
